{"text_format":"3","workbook":"xlsx","n_sheets":1,"sheets":["duomenys"],"not_rendered":{"defined_names":2,"comments":1},"read":"whole","date_system":"1900"}

{"sheet":"duomenys","index":0,"n_rows":45,"n_cols":30,"rows_kept":45,"merged":[[0,0,0,2],[0,4,0,5],[1,0,1,7],[2,0,2,7],[3,0,3,7],[4,0,5,0],[4,1,4,3],[4,4,4,6],[4,7,5,7],[6,0,6,7],[8,0,8,7],[10,8,11,8],[16,0,16,7],[17,8,18,8],[19,0,19,7],[22,0,22,7],[23,8,25,8],[26,0,26,7],[29,0,29,7],[31,0,31,7],[36,1,36,2],[36,4,36,5],[37,1,37,2],[37,4,37,5],[38,1,38,2],[38,4,38,5],[39,1,39,2],[39,4,39,7],[40,1,40,2],[40,3,40,5],[41,0,41,7],[42,0,42,7],[55,0,55,7],[56,0,56,7],[57,0,57,7],[58,0,58,7],[59,0,59,7],[60,0,60,7],[61,0,61,7],[62,0,62,7],[63,0,63,7],[64,0,64,7],[65,0,65,7],[66,0,66,7]]}
["ŠVENČIONĖLIŲ MINDAUGO GIMNAZIJOS",{"$nulls":3},"KLASĖS",{"$nulls":3},{"$f":"IF(LEN(D1)=0,\"!: Pasirinkite klasę kurioje mokotės\",IF(LEN(G1)=0,\"!: Pasirinkite: mokinys/mokinė\",\"\"))","v":"!: Pasirinkite klasę kurioje mokotės"},"MOKINYS",{"$nulls":3},"KŪNO K.","LIETUVIŲ","ANGLŲ","VOKIEČIŲ","RUSŲ","MATEMATIKA","BIOLOGIJA","CHEMIJA","FIZIKA",null,"IT","ISTORIJA","GEOGRAFIJA","PASIRENKAMIEJI","PASIRENKAMŲJŲ DALYKŲ MODULIAI","MENAI/TECHNOLOGIJOS","Tikyba"]
[{"$nulls":8},{"$f":"IF(LEN(A2)=0,\"!: Įrašykite pirmiausia Pavardę ir po to Vardą \n(pagal dokumentus), pvz.: Pavardenis Vardenis\",\"\")","v":"!: Įrašykite pirmiausia Pavardę ir po to Vardą \n(pagal dokumentus), pvz.: Pavardenis Vardenis"},"MOKINĖ","IIA","A",null,"Bendroji","Lietuvių k. modulis",{"$nulls":13},"Dailė","Etika"]
["2016-2018 m.m. INDIVIDUALUS UGDYMO PLANAS",{"$nulls":7},"Pastabos : \nTIK geltona spalva pažymėtuose langeliuose \nįvedami/pasirenkami duomenys",null,"IIB","B",null,"Krepšinis",null,"Anglų k. modulis","Vokiečių k. (G) modulis",null,"Akadem. geb. mok.","Biologijos (A) modulis","Chemijos (A) modulis",null,null,"Programavimas","Istorijos modulis",null,"Programavimas",null,"Muzika"]
[{"$nulls":9},2,"IIC",null,null,"Tinklinis","Projektinė veikla/\nbrandos darbas",{"$nulls":3},"Prakt. geb. mok.","Projektinė veikla/\nbrandos darbas",{"$nulls":4},"Prakt. geb. mok.",null,"Elektroninė leidyba",null,"Šokis"]
["Dalykai","III klasė",null,null,"IV klasė",null,null,"Iš viso",{"$nulls":3},"A1",null,"Atletinė gimnastika (V)",{"$nulls":10},"Archyvinė istorija",null,"Duomenų bazės",null,"Statybos ir medžio apd. technologijos "]
[null,"Kursas","Val.","Modulis","Kursas","Val.","Modulis",null,null,1,null,"A2",{"$nulls":12},"Šaltinių pažinimas",null,"Lotynų k. 11",null,"Verslas, vadyba ir mažmeninė prekyba"]
["Dorinis ugdymas",{"$nulls":10},"B1",{"$nulls":14},"Braižyba 11",null,"Tekstilė ir apranga"]
[null,{"$f":"IF(LEN(A8)>0,\"B\",\"\")","v":""},{"$f":"IF(B8=\"B\",1,\"\")","v":""},null,{"$f":"B8","v":""},{"$f":"C8","v":""},null,{"$f":"SUM(C8:G8)","v":0},{"$f":"IF(LEN(A8)=0,\"!: Privalote pasirinkti vieną dorinio ugdymo dalyką\",\"\")","v":"!: Privalote pasirinkti vieną dorinio ugdymo dalyką"},null,null,"B2",{"$nulls":14},"Ekonomika ir verslumas 22"]
["Kalbos",{"$nulls":25},"Įdomioji istorija 10"]
["Lietuvių  k.","A",{"$f":"IF(B10=\"B\",4,IF(B10=\"A\",6,0))","v":6},null,{"$f":"B10","v":"A"},{"$f":"C10","v":6},null,{"$f":"SUM(C10,F10)","v":12},{"$f":"IF(LEN(B10)=0,\"!: Privalote pasirinkti kursą\",\"\")","v":""},{"$nulls":17},"Kūrybinės technologijos 11"]
["Anglų k.",null,{"$f":"IF(OR(B11=\"B1\",B11=\"A2\"),3,IF(B11=\"B2\",4,0))","v":0},null,0,{"$f":"C11","v":0},null,{"$f":"SUM(C11:F11)+COUNTA(D11,G11)","v":0},{"$f":"IF(AND(LEN(B11)=0,LEN(B12)=0),\"!: Privalote pasirinkti užsienio kalbos mokėjimo lygį\",IF(OR(AND(COUNTA(D11,G11)>0,B11=0),AND(COUNTA(D12,G12)>0,B12=0)),\"!: Negalima rinktis modulio nepasirinkus dalyko\",\"\"))","v":"!: Privalote pasirinkti užsienio kalbos mokėjimo lygį"},{"$nulls":17},"Medicinos biologija 10"]
["Vokiečių k. ",null,{"$f":"IF(OR(B12=\"B1\",B12=\"A2\",B12=\"B2\"),3,0)","v":0},null,0,{"$f":"C12","v":0},null,0,{"$nulls":18},"Psichologija 11"]
["Rusų k.",null,{"$f":"IF(OR(B13=\"B1\",B13=\"A2\",B13=\"B2\"),3,0)","v":0},null,0,{"$f":"C13","v":0},null,0,{"$nulls":18},"Teisės pagrindai 11"]
["Anglų k. (pasirenkama)",null,{"$f":"IF(OR(B14=\"B1\",B14=\"A2\"),3,IF(B14=\"B2\",4,0))","v":0},null,0,{"$f":"IF(OR(E14=\"B2\",E14=\"B1\",E14=\"A2\",E14=\"A1\"),3,0)","v":0},null,0,{"$f":"IF(OR(AND(COUNTA(D14,G14)>0,B14=0),AND(COUNTA(D15,G15)>0,B15=0),AND(COUNTA(D16,G16)>0,B16=0)),\"!: Negalima rinktis modulio nepasirinkus dalyko\",IF(OR(COUNTA(B11,B14)>1,COUNTA(B12,B16)>1),\"!: Negali būti ta pati privaloma ir pasirenkama užsienio kalbos\",\"\"))","v":""}]
["Rusų k. (pasirenkama)",null,{"$f":"IF(OR(B15=\"B1\",B15=\"A2\"),3,IF(B15=\"B2\",4,0))","v":0},null,0,{"$f":"IF(OR(E15=\"B2\",E15=\"B1\",E15=\"A2\",E15=\"A1\"),3,0)","v":0},null,0]
["Vokiečių k. (prad.)",null,{"$f":"IF(OR(B16=\"B2\",B16=\"B1\",B16=\"A2\"),3,IF(B16=\"A1\",2,0))","v":0},null,0,{"$f":"C16","v":0},null,0]
["Socialiniai mokslai"]
["Istorija",null,{"$f":"IF(B18=\"B\",2,IF(B18=\"A\",3,IF(B18=\"\",0,)))","v":0},null,{"$f":"B18","v":0},{"$f":"IF(E18=\"B\",2,IF(E18=\"A\",3,IF(E18=\"\",0,)))","v":0},null,{"$f":"SUM(C18:F18)+COUNTA(D18,G18)","v":0},{"$f":"IF(COUNTA(B18:B19)<1,\"!: Privalote pasirinkti bent vieną socialinių mokslų dalyką\",IF(OR(AND(COUNTA(D18,G18)>0,B18=0),AND(COUNTA(D19,G19)>0,B19=0)),\"!: Negalima rinktis modulio nepasirinkus dalyko\",\"\"))","v":"!: Privalote pasirinkti bent vieną socialinių mokslų dalyką"}]
["Geografija ",null,{"$f":"IF(B19=\"B\",2,IF(B19=\"A\",3,IF(B19=\"\",0,)))","v":0},null,{"$f":"B19","v":0},{"$f":"IF(E19=\"B\",2,IF(E19=\"A\",3,IF(E19=\"\",0,)))","v":0},null,0]
[]
["Matematika",null,{"$f":"IF(B21=\"B\",3,IF(B21=\"A\",4,IF(B21=\"\",0,0)))","v":0},null,{"$f":"B21","v":0},{"$f":"IF(E21=\"B\",3,IF(E21=\"A\",5,IF(E21=\"\",0,0)))","v":0},null,0,{"$f":"IF(LEN(B21)=0,\"!: Privalote pasirinkti matematikos kursą\",\"\")","v":"!: Privalote pasirinkti matematikos kursą"}]
["Informacinės technologijos",null,{"$f":"IF(B22=\"B\",2,IF(B22=\"A\",2,IF(B22=\"\",0,0)))","v":0},{"$f":"IF(G22=\"Programavimas\",\"Programavimo pradmenys\",0)","v":0},{"$f":"IF(B22=\"B\",\"\",IF(B22=\"A\",B22,\"\"))","v":""},{"$f":"IF(E22=\"B\",0,IF(E22=\"A\",2+IF(LEFT(G22,3)=\"Pro\",1,0),IF(E22=\"\",0,0)))","v":0},null,{"$f":"SUM(C22,F22)+IF(LEFT(D22,3)=\"Pro\",1,0)","v":0},{"$f":"IF(LEN(B22)=0,\"!: Privalote pasirinkti IT kursą\",IF(AND(B22=\"A\",COUNTA(G22)<1),\"!: Pasirinkite išplėstinio kurso modulį 4 klasėje\",IF(AND(COUNTA(B22)<1,COUNTA(G22)>0),\"!: Negalite rinktis modulio, nepasirinkę dalyko\",IF(AND(B22=\"B\",LEN(G22)>0),\"!: Negalite rinktis šio modulio, nepasirinkę A kurso\",\"\"))))","v":"!: Privalote pasirinkti IT kursą"}]
["Gamtos mokslai"]
["Biologija",null,{"$f":"IF(B24=\"B\",2,IF(B24=\"A\",3,IF(B24=\"\",0,0)))","v":0},null,{"$f":"B24","v":0},{"$f":"IF(E24=\"B\",2,IF(E24=\"A\",3,IF(E24=\"\",0,0)))","v":0},null,{"$f":"SUM(C24:F24)+COUNTA(D24,G24)","v":0},{"$f":"IF(AND(LEN(B24)=0,LEN(B25)=0,LEN(B26)=0,LEN(B26)=0),\"!: Privalote pasirinkti bent vieną gamtos mokslų dalyką\",IF(OR(AND(COUNTA(D24,G24)>0,B24=0),AND(COUNTA(D25,G25)>0,B25=0),AND(COUNTA(D26,G26)>0,B26=0)),\"!: Negalima rinktis modulio nepasirinkus dalyko\",\"\"))","v":"!: Privalote pasirinkti bent vieną gamtos mokslų dalyką"}]
["Fizika ",null,{"$f":"IF(B25=\"B\",2,IF(B25=\"A\",3,IF(B25=\"\",0,0)))","v":0},null,{"$f":"B25","v":0},{"$f":"IF(E25=\"B\",2,IF(E25=\"A\",4,IF(E25=\"\",0,0)))","v":0},null,{"$f":"SUM(C25:F25)+COUNTA(D25,G25)","v":0}]
["Chemija",null,{"$f":"IF(B26=\"B\",2,IF(B26=\"A\",3,IF(B26=\"\",0,0)))","v":0},null,{"$f":"B26","v":0},{"$f":"IF(E26=\"B\",2,IF(E26=\"A\",3,IF(E26=\"\",0,0)))","v":0},null,{"$f":"SUM(C26:F26)+COUNTA(D26,G26)","v":0}]
["Menai, technologijos"]
[null,null,{"$f":"IF(B28=\"A\",3,IF(B28=\"B\",2,0))-C29","v":0},null,{"$f":"B28","v":0},{"$f":"C28","v":0},null,{"$f":"SUM(C28:F28)","v":0},{"$f":"IF(LEN(A28)=0,\"!: Privalote pasirinkti vieną menų ar technologijų dalyką\",IF(LEN(B28)=0,\"!: Pasirinkite kursą\",IF(AND(OR(LEFT(A28,3)=\"Sta\",LEFT(A28,3)=\"Ver\",LEFT(A28,3)=\"Tek\",LEFT(A28,3)=\"Šok\"),B28=\"A\"),\"!: Technologijų ir šokio galite rinktis tik B kursą\",\"\")))","v":"!: Privalote pasirinkti vieną menų ar technologijų dalyką"}]
["Papildomasis ugdymas (meninė raiška)",{"$f":"IF(A29=\"B\",2,IF(A29=\"A\",3,IF(A29=\"\",0,0)))","v":0},null,null,{"$f":"B29","v":0},{"$f":"C29","v":0},null,{"$f":"SUM(C29:F29)","v":0},{"$f":"IF(AND(B28=\"B\",C29=2),\"Negalite rinktis 2 valandų B kursui\",\"\")","v":""}]
["Kūno kultūra"]
[null,{"$f":"IF(LEN(A31)>0,\"B\",\"\")","v":""},{"$f":"IF(B31=\"B\",2,IF(B31=\"A\",4,IF(B31=\"\",0,0)))","v":0},null,{"$f":"B31","v":""},{"$f":"IF(E31=\"B\",2,IF(E31=\"A\",4,IF(E31=\"\",0,0)))","v":0},null,{"$f":"SUM(C31:F31)","v":0},{"$f":"IF(LEN(A31)=0,\"!: Privalote pasirinkti bendrąją kūno kultūrą arba sporto šaką\",IF(LEN(B31)=0,\"!: Pasirinkite kursą\",IF(AND(OR(A31=\"Krepšinis\",A31=\"Tinklinis\",A31=\"Atletinė gimnastika\"),B31=\"A\"),\"!: A kursą turi tik Bendroji k.k.\",\"\")))","v":"!: Privalote pasirinkti bendrąją kūno kultūrą arba sporto šaką"}]
["Pasirenkamieji dalykai (pasirinkite iš sąrašo)"]
[null,{"$f":"IF(LEN(A33)>0,\"B\",\"\")","v":""},{"$f":"IF(A33=0,\"\",LEFT(RIGHT(A33,2),1)*1)","v":""},null,{"$f":"B33","v":""},{"$f":"IF(A33=0,\"\",IF(RIGHT(A33,1)*1>0,RIGHT(A33,1)*1,\"-\"))","v":""},null,{"$f":"SUM(C33:F33)+COUNTA(D33,G33)","v":0}]
[null,{"$f":"IF(LEN(A34)>0,\"B\",\"\")","v":""},{"$f":"IF(A34=0,\"\",LEFT(RIGHT(A34,2),1)*1)","v":""},null,{"$f":"B34","v":""},{"$f":"IF(A34=0,\"\",IF(RIGHT(A34,1)*1>0,RIGHT(A34,1)*1,\"-\"))","v":""},null,{"$f":"SUM(C34:F34)+COUNTA(D34,G34)","v":0}]
[null,{"$f":"IF(LEN(A35)>0,\"B\",\"\")","v":""},{"$f":"IF(A35=0,\"\",LEFT(RIGHT(A35,2),1)*1)","v":""},null,{"$f":"B35","v":""},{"$f":"IF(A35=0,\"\",IF(RIGHT(A35,1)*1>0,RIGHT(A35,1)*1,\"-\"))","v":""},null,{"$f":"SUM(C35:F35)+COUNTA(D35,G35)","v":0}]
[null,{"$f":"IF(LEN(A36)>0,\"B\",\"\")","v":""},{"$f":"IF(A36=0,\"\",LEFT(RIGHT(A36,2),1)*1)","v":""},null,{"$f":"B36","v":""},{"$f":"IF(A36=0,\"\",IF(RIGHT(A36,1)*1>0,RIGHT(A36,1)*1,\"-\"))","v":""},null,{"$f":"SUM(C36:F36)+COUNTA(D36,G36)","v":0}]
["Iš viso (val.)",{"$f":"SUM(C8:C36)+COUNTA(D21)+IF(D22=0,0,1)","v":6},null,null,{"$f":"SUM(F8:F36)+COUNTA(G18:G19,G21,G24:G26)","v":6},null,null,{"$f":"SUM(H33:H35,H31,H28:H29,H24:H26,H21:H22,H18:H19,H10:H16,H8)","v":12},{"$f":"IF(E37<28,\"!: IV klasėje per mažai pamokų\",IF(E37>32,\"!: IV klasėje per daug pamokų\",\"\"))","v":"!: IV klasėje per mažai pamokų"}]
["Iš viso (dalykų)",{"$f":"SUM(COUNTIF(C8,\">=1\"),COUNTIF(C10:C16,\">=1\"),COUNTIF(C18:C19,\">=1\"),COUNTIF(C21:C22,\">=1\"),COUNTIF(C24:C26,\">=1\"),COUNTIF(C28,\">=1\"),COUNTIF(C31,\">=1\"),COUNTIF(C33:C36,\">=1\"))","v":1},null,null,{"$f":"SUM(COUNTIF(F8,\">=1\"),COUNTIF(F10:F16,\">=1\"),COUNTIF(F18:F19,\">=1\"),COUNTIF(F21:F22,\">=1\"),COUNTIF(F24:F26,\">=1\"),COUNTIF(F28,\">=1\"),COUNTIF(F31,\">=1\"),COUNTIF(F33:F36,\">=1\"))","v":1},null,null,{"$f":"MAX(B38,E38)","v":1},{"$f":"IF(B37<28,\"!: III klasėje per mažai pamokų\",IF(B37>32,\"!: III klasėje per daug pamokų\",\"\"))","v":"!: III klasėje per mažai pamokų"}]
["Kursai","A",null,{"$f":"IF(COUNTIF(B7:B36,B39)=0,\"-\",COUNTIF(B7:B36,B39))","v":1},"B",null,{"$f":"IF(COUNTIF(E7:E36,E39)=0,\"-\",COUNTIF(E7:E36,E39))","v":"-"},null,{"$f":"IF(MIN(B38,E38)<9,\"!: Pasirinkote per mažai dalykų\",IF(MAX(B38,E38)>13,\"!: Pasirinkote per daug dalykų\",\"\"))","v":"!: Pasirinkote per mažai dalykų"}]
["Moksleivio parašas",null,null,"E-paštas \nir telefonas:",{"$nulls":4},{"$f":"IF(LEN(E40)=0,\"!: Įrašykite mokinio e-pašto adresą ir telefoną\",\"\")","v":"!: Įrašykite mokinio e-pašto adresą ir telefoną"}]
["Tėvai/globėjai \n(parašas, vardas, pavardė)",{"$nulls":5},"Data",{"$f":"TODAY()","v":"2016-04-12"},{"$f":"IF(LEN(D41)=0,\"!: Įrašykite vieno iš tėvų/globėjų vardą ir pavardę, telefoną\",\"\")","v":"!: Įrašykite vieno iš tėvų/globėjų vardą ir pavardę, telefoną"}]
[]
["Baigę pildyti, įrašykite failą: Failas > Įrašyti kaip: Failo vardas IIXPavVar18 (kur X klasės raidė, Pav - mokinio pavardė, \nVar - mokinio vardas); Įrašomo failo tipas \"Excel darbaknygė\" (.xlsx). \nPvz.: IIA kl. mokinio Stankevičiaus Augustino failas turi turėti vardą IIAStaAug18.xlsx\nDar kartą viską patikrinkite ir išsiųskite failą e.paštu auklėtojui/-ai. \nPo suderinimo su pavaduotoju ugdymui IUP išspausdinkite ir pasirašykite (mokinys ir vienas iš tėvų).",{"$nulls":7},{"$f":"IF(I45>0,\"Jūsų plane yra klaidų!\",\"\")","v":"Jūsų plane yra klaidų!"}]
[]
[{"$nulls":8},{"$f":"COUNTIF($I$1:$I$2,\">!:\")+COUNTIF($I$5:$I$39,\">!:\")+COUNTIF(I40:I41,\">!:\")","v":15}]